BEGIN:VCALENDAR
VERSION:2.0
PRODID:-//Bolton Alumni Association - ECPv6.15.20//NONSGML v1.0//EN
CALSCALE:GREGORIAN
METHOD:PUBLISH
X-WR-CALNAME:Bolton Alumni Association
X-ORIGINAL-URL:https://boltonalumni.org
X-WR-CALDESC:Events for Bolton Alumni Association
REFRESH-INTERVAL;VALUE=DURATION:PT1H
X-Robots-Tag:noindex
X-PUBLISHED-TTL:PT1H
BEGIN:VTIMEZONE
TZID:America/Chicago
BEGIN:DAYLIGHT
TZOFFSETFROM:-0600
TZOFFSETTO:-0500
TZNAME:CDT
DTSTART:20220313T080000
END:DAYLIGHT
BEGIN:STANDARD
TZOFFSETFROM:-0500
TZOFFSETTO:-0600
TZNAME:CST
DTSTART:20221106T070000
END:STANDARD
BEGIN:DAYLIGHT
TZOFFSETFROM:-0600
TZOFFSETTO:-0500
TZNAME:CDT
DTSTART:20230312T080000
END:DAYLIGHT
BEGIN:STANDARD
TZOFFSETFROM:-0500
TZOFFSETTO:-0600
TZNAME:CST
DTSTART:20231105T070000
END:STANDARD
BEGIN:DAYLIGHT
TZOFFSETFROM:-0600
TZOFFSETTO:-0500
TZNAME:CDT
DTSTART:20240310T080000
END:DAYLIGHT
BEGIN:STANDARD
TZOFFSETFROM:-0500
TZOFFSETTO:-0600
TZNAME:CST
DTSTART:20241103T070000
END:STANDARD
BEGIN:DAYLIGHT
TZOFFSETFROM:-0600
TZOFFSETTO:-0500
TZNAME:CDT
DTSTART:20250309T080000
END:DAYLIGHT
BEGIN:STANDARD
TZOFFSETFROM:-0500
TZOFFSETTO:-0600
TZNAME:CST
DTSTART:20251102T070000
END:STANDARD
END:VTIMEZONE
BEGIN:VEVENT
DTSTART;TZID=America/Chicago:20240607T180000
DTEND;TZID=America/Chicago:20240607T200000
DTSTAMP:20260424T083319
CREATED:20240504T121457Z
LAST-MODIFIED:20240504T121457Z
UID:5014-1717783200-1717790400@boltonalumni.org
SUMMARY:First Friday at the Mirror Room
DESCRIPTION:On the first Friday of each month\, alumni gather at the Mirror Room in downtown Alexandria. This is an informal gathering to help alumni stay connected.
URL:https://boltonalumni.org/event/first-friday-at-the-mirror-room-9/
LOCATION:The Mirror Room\, 200 Desoto Street\, Alexandria\, LA\, United States
END:VEVENT
BEGIN:VEVENT
DTSTART;TZID=America/Chicago:20240504T140000
DTEND;TZID=America/Chicago:20240504T150000
DTSTAMP:20260424T083319
CREATED:20240504T121220Z
LAST-MODIFIED:20240504T123041Z
UID:5007-1714831200-1714834800@boltonalumni.org
SUMMARY:Annual Meeting
DESCRIPTION:Watch via Facebook Live
URL:https://boltonalumni.org/event/annual-meeting-2/
LOCATION:Bolton High School\, 2101 Vance Avenue\, Alexandria\, LA\, 71301\, United States
END:VEVENT
BEGIN:VEVENT
DTSTART;TZID=America/Chicago:20240316T083000
DTEND;TZID=America/Chicago:20240316T103000
DTSTAMP:20260424T083319
CREATED:20240117T232426Z
LAST-MODIFIED:20240213T142344Z
UID:4905-1710577800-1710585000@boltonalumni.org
SUMMARY:Bear Dash Bash
DESCRIPTION:A 5K and fun run the morning after the Hall of Fame induction. The 5K begins at 8:30 a.m. and the fun run begins at 9 a.m. Advance registration is $30 for adults and $20 for students. There is no cost for children under the age of three. Register online at runsignup.com!
URL:https://boltonalumni.org/event/bear-dash-bash/
LOCATION:Bolton High School\, 2101 Vance Avenue\, Alexandria\, LA\, 71301\, United States
END:VEVENT
BEGIN:VEVENT
DTSTART;TZID=America/Chicago:20240315T183000
DTEND;TZID=America/Chicago:20240315T213000
DTSTAMP:20260424T083319
CREATED:20240104T175910Z
LAST-MODIFIED:20240307T183457Z
UID:4774-1710527400-1710538200@boltonalumni.org
SUMMARY:Bolton Hall of Fame Dinner & Induction
DESCRIPTION:Bolton Hall of Fame Induction of Inaugural 2024 Class\nCocktails at 6:30 p.m. | Dinner and program at 7:15 p.m.\nIndividual tickets are $50 \n*Tickets are currently sold out for this event.  \n		\n					\n						\n					\n			\n						\n				\n									\n					\n						\n									Join the Waiting List\n					\n					\n				\n								\n				\n					\n		\n					\n		\n				\n		\n 
URL:https://boltonalumni.org/event/bolton-hall-of-fame-dinner-induction/
LOCATION:Holiday Inn Downtown Alexandria\, 701 4th Street\, Alexandria\, LA\, 71301\, United States
ATTACH;FMTTYPE=image/jpeg:https://boltonalumni.org/wp-content/uploads/2024/01/BHS-Hall-of-Fame-Digital-Invite-e1705535524256.jpg
END:VEVENT
BEGIN:VEVENT
DTSTART;TZID=America/Chicago:20240301T180000
DTEND;TZID=America/Chicago:20240301T200000
DTSTAMP:20260424T083319
CREATED:20240117T232516Z
LAST-MODIFIED:20240117T232538Z
UID:4908-1709316000-1709323200@boltonalumni.org
SUMMARY:First Friday at the Mirror Room
DESCRIPTION:On the first Friday of each month\, alumni gather at the Mirror Room in downtown Alexandria. This is an informal gathering to help alumni stay connected.
URL:https://boltonalumni.org/event/first-friday-at-the-mirror-room-8/
LOCATION:The Mirror Room\, 200 Desoto Street\, Alexandria\, LA\, United States
END:VEVENT
BEGIN:VEVENT
DTSTART;TZID=America/Chicago:20240202T180000
DTEND;TZID=America/Chicago:20240202T200000
DTSTAMP:20260424T083319
CREATED:20240104T174112Z
LAST-MODIFIED:20240104T174112Z
UID:4769-1706896800-1706904000@boltonalumni.org
SUMMARY:First Friday at the Mirror Room
DESCRIPTION:On the first Friday of each month\, alumni gather at the Mirror Room in downtown Alexandria. This is an informal gathering to help alumni stay connected.
URL:https://boltonalumni.org/event/first-friday-at-the-mirror-room-7/
LOCATION:The Mirror Room\, 200 Desoto Street\, Alexandria\, LA\, United States
END:VEVENT
BEGIN:VEVENT
DTSTART;TZID=America/Chicago:20240105T180000
DTEND;TZID=America/Chicago:20240105T200000
DTSTAMP:20260424T083319
CREATED:20240104T173513Z
LAST-MODIFIED:20240104T173716Z
UID:4765-1704477600-1704484800@boltonalumni.org
SUMMARY:First Friday at the Mirror Room
DESCRIPTION:On the first Friday of each month\, alumni gather at the Mirror Room in downtown Alexandria. This is an informal gathering to help alumni stay connected.
URL:https://boltonalumni.org/event/first-friday-at-the-mirror-room-6/
LOCATION:The Mirror Room\, 200 Desoto Street\, Alexandria\, LA\, United States
END:VEVENT
BEGIN:VEVENT
DTSTART;TZID=America/Chicago:20231207T173000
DTEND;TZID=America/Chicago:20231207T183000
DTSTAMP:20260424T083319
CREATED:20230828T211208Z
LAST-MODIFIED:20230828T211208Z
UID:3049-1701970200-1701973800@boltonalumni.org
SUMMARY:Alumni Board Meeting
DESCRIPTION:
URL:https://boltonalumni.org/event/alumni-board-meeting-4/
LOCATION:LA
END:VEVENT
BEGIN:VEVENT
DTSTART;TZID=America/Chicago:20231201T180000
DTEND;TZID=America/Chicago:20231201T200000
DTSTAMP:20260424T083319
CREATED:20230828T210747Z
LAST-MODIFIED:20230831T145554Z
UID:3038-1701453600-1701460800@boltonalumni.org
SUMMARY:First Friday at the Mirror Room
DESCRIPTION:On the first Friday of each month\, alumni gather at the Mirror Room in downtown Alexandria. This is an informal gathering to help alumni stay connected.
URL:https://boltonalumni.org/event/first-friday-at-the-mirror-room-5/
LOCATION:LA
END:VEVENT
BEGIN:VEVENT
DTSTART;TZID=America/Chicago:20231103T180000
DTEND;TZID=America/Chicago:20231103T200000
DTSTAMP:20260424T083319
CREATED:20230828T210702Z
LAST-MODIFIED:20230831T145503Z
UID:3037-1699034400-1699041600@boltonalumni.org
SUMMARY:First Friday at the Mirror Room
DESCRIPTION:On the first Friday of each month\, alumni gather at the Mirror Room in downtown Alexandria. This is an informal gathering to help alumni stay connected.
URL:https://boltonalumni.org/event/first-friday-at-the-mirror-room-4/
LOCATION:LA
END:VEVENT
BEGIN:VEVENT
DTSTART;TZID=America/Chicago:20231102T173000
DTEND;TZID=America/Chicago:20231102T183000
DTSTAMP:20260424T083319
CREATED:20230828T211131Z
LAST-MODIFIED:20230828T211131Z
UID:3047-1698946200-1698949800@boltonalumni.org
SUMMARY:Alumni Board Meeting
DESCRIPTION:
URL:https://boltonalumni.org/event/alumni-board-meeting-3/
LOCATION:LA
END:VEVENT
BEGIN:VEVENT
DTSTART;TZID=America/Chicago:20231006T180000
DTEND;TZID=America/Chicago:20231006T200000
DTSTAMP:20260424T083319
CREATED:20230828T210623Z
LAST-MODIFIED:20230831T145405Z
UID:3036-1696615200-1696622400@boltonalumni.org
SUMMARY:First Friday at the Mirror Room
DESCRIPTION:On the first Friday of each month\, alumni gather at the Mirror Room in downtown Alexandria. This is an informal gathering to help alumni stay connected.
URL:https://boltonalumni.org/event/first-friday-at-the-mirror-room-copy/
LOCATION:LA
END:VEVENT
BEGIN:VEVENT
DTSTART;TZID=America/Chicago:20231005T173000
DTEND;TZID=America/Chicago:20231005T183000
DTSTAMP:20260424T083319
CREATED:20230828T211056Z
LAST-MODIFIED:20230828T211056Z
UID:3045-1696527000-1696530600@boltonalumni.org
SUMMARY:Alumni Board Meeting
DESCRIPTION:
URL:https://boltonalumni.org/event/alumni-board-meeting-2/
LOCATION:LA
END:VEVENT
BEGIN:VEVENT
DTSTART;TZID=America/Chicago:20230907T173000
DTEND;TZID=America/Chicago:20230907T183000
DTSTAMP:20260424T083319
CREATED:20230828T211019Z
LAST-MODIFIED:20230828T211019Z
UID:3043-1694107800-1694111400@boltonalumni.org
SUMMARY:Alumni Board Meeting
DESCRIPTION:
URL:https://boltonalumni.org/event/alumni-board-meeting/
LOCATION:LA
END:VEVENT
BEGIN:VEVENT
DTSTART;TZID=America/Chicago:20230901T180000
DTEND;TZID=America/Chicago:20230901T200000
DTSTAMP:20260424T083319
CREATED:20230828T183405Z
LAST-MODIFIED:20230831T144805Z
UID:3002-1693591200-1693598400@boltonalumni.org
SUMMARY:First Friday at the Mirror Room
DESCRIPTION:On the first Friday of each month\, alumni gather at the Mirror Room in downtown Alexandria. This is an informal gathering to help alumni stay connected.
URL:https://boltonalumni.org/event/first-friday-at-the-mirror-room-3/
LOCATION:LA
END:VEVENT
BEGIN:VEVENT
DTSTART;TZID=America/Chicago:20230513T090000
DTEND;TZID=America/Chicago:20230513T110000
DTSTAMP:20260424T083319
CREATED:20230306T231720Z
LAST-MODIFIED:20230504T182953Z
UID:2472-1683968400-1683975600@boltonalumni.org
SUMMARY:Annual Meeting
DESCRIPTION:Our annual meeting will be held at 2 p.m. on May 13\, 2023 in the Study Center at Bolton. Highlights of this year’s meeting include a presentation and discussion with Superintendent Jeff Powell about the proposed Pre-K – 12 magnet school at Bolton\, a preview of the Alumni Association’s plans to develop a Hall of Fame for Bolton alumni\, student-led tours of the school and conservatory\, and Alumni Board elections.
URL:https://boltonalumni.org/event/annual-meeting/
LOCATION:LA
END:VEVENT
BEGIN:VEVENT
DTSTART;TZID=America/Chicago:20230510T013000
DTEND;TZID=America/Chicago:20230510T023000
DTSTAMP:20260424T083319
CREATED:20230504T183649Z
LAST-MODIFIED:20230504T185510Z
UID:2633-1683682200-1683685800@boltonalumni.org
SUMMARY:Teacher Appreciation Breakfast
DESCRIPTION:The Alumni Association is hosting breakfast for one day during Teacher Appreciation Week. If you would like to help with this event\, please contact Jennifer Wright.
URL:https://boltonalumni.org/event/teacher-appreciation-breakfast/
LOCATION:LA
END:VEVENT
BEGIN:VEVENT
DTSTART;TZID=America/Chicago:20230505T130000
DTEND;TZID=America/Chicago:20230505T150000
DTSTAMP:20260424T083319
CREATED:20230306T233748Z
LAST-MODIFIED:20230306T233748Z
UID:2484-1683291600-1683298800@boltonalumni.org
SUMMARY:First Friday at the Mirror Room
DESCRIPTION:On the first Friday of each month\, alumni gather at the Mirror Room in downtown Alexandria. This is an informal gathering to help alumni stay connected.
URL:https://boltonalumni.org/event/first-friday-at-the-mirror-room-2/
LOCATION:LA
END:VEVENT
BEGIN:VEVENT
DTSTART;TZID=America/Chicago:20230427T050000
DTEND;TZID=America/Chicago:20230427T080000
DTSTAMP:20260424T083319
CREATED:20230306T233356Z
LAST-MODIFIED:20230417T212734Z
UID:2480-1682571600-1682582400@boltonalumni.org
SUMMARY:Senior Picnic
DESCRIPTION:The Alumni Association is hosting the first annual senior picnic for graduating seniors.
URL:https://boltonalumni.org/event/senior-picnic/
LOCATION:LA
END:VEVENT
BEGIN:VEVENT
DTSTART;TZID=America/Chicago:20230407T130000
DTEND;TZID=America/Chicago:20230407T150000
DTSTAMP:20260424T083319
CREATED:20230306T233518Z
LAST-MODIFIED:20230306T233518Z
UID:2482-1680872400-1680879600@boltonalumni.org
SUMMARY:First Friday at the Mirror Room
DESCRIPTION:On the first Friday of each month\, alumni gather at the Mirror Room in downtown Alexandria. This is an informal gathering to help alumni stay connected.
URL:https://boltonalumni.org/event/first-friday-at-the-mirror-room/
LOCATION:LA
END:VEVENT
END:VCALENDAR