BEGIN:VCALENDAR
VERSION:2.0
PRODID:-//Bolton Alumni Association - ECPv6.15.20//NONSGML v1.0//EN
CALSCALE:GREGORIAN
METHOD:PUBLISH
X-WR-CALNAME:Bolton Alumni Association
X-ORIGINAL-URL:https://boltonalumni.org
X-WR-CALDESC:Events for Bolton Alumni Association
REFRESH-INTERVAL;VALUE=DURATION:PT1H
X-Robots-Tag:noindex
X-PUBLISHED-TTL:PT1H
BEGIN:VTIMEZONE
TZID:America/Chicago
BEGIN:DAYLIGHT
TZOFFSETFROM:-0600
TZOFFSETTO:-0500
TZNAME:CDT
DTSTART:20250309T080000
END:DAYLIGHT
BEGIN:STANDARD
TZOFFSETFROM:-0500
TZOFFSETTO:-0600
TZNAME:CST
DTSTART:20251102T070000
END:STANDARD
BEGIN:DAYLIGHT
TZOFFSETFROM:-0600
TZOFFSETTO:-0500
TZNAME:CDT
DTSTART:20260308T080000
END:DAYLIGHT
BEGIN:STANDARD
TZOFFSETFROM:-0500
TZOFFSETTO:-0600
TZNAME:CST
DTSTART:20261101T070000
END:STANDARD
BEGIN:DAYLIGHT
TZOFFSETFROM:-0600
TZOFFSETTO:-0500
TZNAME:CDT
DTSTART:20270314T080000
END:DAYLIGHT
BEGIN:STANDARD
TZOFFSETFROM:-0500
TZOFFSETTO:-0600
TZNAME:CST
DTSTART:20271107T070000
END:STANDARD
END:VTIMEZONE
BEGIN:VEVENT
DTSTART;TZID=America/Chicago:20260424T180000
DTEND;TZID=America/Chicago:20260424T220000
DTSTAMP:20260423T190116
CREATED:20260124T180250Z
LAST-MODIFIED:20260124T180322Z
UID:5235-1777053600-1777068000@boltonalumni.org
SUMMARY:Hall of Fame Induction Ceremony 2026
DESCRIPTION:The third class of the Bolton Hall of Fame will be inducted at a ceremony at the Holiday Inn in downtown Alexandria\, LA on April 24\, 2026. For tickets and sponsorship information\, visit the Hall of Fame page.
URL:https://boltonalumni.org/event/hall-of-fame-induction-ceremony-copy/
LOCATION:Holiday Inn Downtown Alexandria\, 701 4th Street\, Alexandria\, LA\, 71301\, United States
END:VEVENT
END:VCALENDAR